Package: receptLoss
Version: 1.18.0
Command: /home/biocbuild/R/R/bin/R CMD INSTALL receptLoss
StartedAt: 2024-11-19 20:36:57 -0000 (Tue, 19 Nov 2024)
EndedAt: 2024-11-19 20:37:26 -0000 (Tue, 19 Nov 2024)
EllapsedTime: 29.7 seconds
RetCode: 0
Status: OK