Package: receptLoss Version: 1.18.0 Command: /Library/Frameworks/R.framework/Resources/bin/R CMD build --keep-empty-dirs --no-resave-data receptLoss StartedAt: 2025-02-03 21:37:12 -0500 (Mon, 03 Feb 2025) EndedAt: 2025-02-03 21:38:17 -0500 (Mon, 03 Feb 2025) EllapsedTime: 65.3 seconds RetCode: 0 Status: OK PackageFile: receptLoss_1.18.0.tar.gz PackageFileSize: 639.4 KiB