Package: receptLoss Version: 1.18.0 Command: chmod a+r receptLoss -R && F:\biocbuild\bbs-3.20-bioc\R\bin\R.exe CMD build --keep-empty-dirs --no-resave-data receptLoss StartedAt: 2025-02-03 21:35:23 -0500 (Mon, 03 Feb 2025) EndedAt: 2025-02-03 21:36:15 -0500 (Mon, 03 Feb 2025) EllapsedTime: 51.6 seconds RetCode: 0 Status: OK PackageFile: receptLoss_1.18.0.tar.gz PackageFileSize: 639.5 KiB