Package: receptLoss Version: 1.18.0 Command: /home/biocbuild/R/R/bin/R CMD INSTALL receptLoss StartedAt: 2025-02-03 20:30:44 -0000 (Mon, 03 Feb 2025) EndedAt: 2025-02-03 20:31:11 -0000 (Mon, 03 Feb 2025) EllapsedTime: 26.6 seconds RetCode: 0 Status: OK