Package: reconsi Version: 1.18.0 Command: rm -rf reconsi.buildbin-libdir && mkdir reconsi.buildbin-libdir && /Users/biocbuild/BBS/utils/build-universal.sh reconsi_1.18.0.tar.gz /Library/Frameworks/R.framework/Resources/bin/R reconsi.buildbin-libdir StartedAt: 2025-02-05 17:20:29 -0500 (Wed, 05 Feb 2025) EndedAt: 2025-02-05 17:20:54 -0500 (Wed, 05 Feb 2025) EllapsedTime: 24.9 seconds RetCode: 0 Status: OK PackageFile: reconsi_1.18.0.tgz PackageFileSize: 205.9 KiB