Package: reconsi Version: 1.18.0 Command: /Library/Frameworks/R.framework/Resources/bin/R CMD build --keep-empty-dirs --no-resave-data reconsi StartedAt: 2025-02-04 06:23:33 -0500 (Tue, 04 Feb 2025) EndedAt: 2025-02-04 06:25:07 -0500 (Tue, 04 Feb 2025) EllapsedTime: 93.8 seconds RetCode: 0 Status: OK PackageFile: reconsi_1.18.0.tar.gz PackageFileSize: 140.7 KiB