Package: reconsi Version: 1.18.0 Command: /Library/Frameworks/R.framework/Resources/bin/R CMD check --install=check:reconsi.install-out.txt --library=/Library/Frameworks/R.framework/Resources/library --no-vignettes --timings reconsi_1.18.0.tar.gz StartedAt: 2025-02-05 06:57:19 -0500 (Wed, 05 Feb 2025) EndedAt: 2025-02-05 07:00:32 -0500 (Wed, 05 Feb 2025) EllapsedTime: 193.0 seconds RetCode: 0 Status: OK CheckDir: reconsi.Rcheck Warnings: 0