Package: reconsi Version: 1.18.0 Command: /Library/Frameworks/R.framework/Resources/bin/R CMD build --keep-empty-dirs --no-resave-data reconsi StartedAt: 2024-11-19 18:19:15 -0500 (Tue, 19 Nov 2024) EndedAt: 2024-11-19 18:20:51 -0500 (Tue, 19 Nov 2024) EllapsedTime: 96.0 seconds RetCode: 0 Status: OK PackageFile: reconsi_1.18.0.tar.gz PackageFileSize: 139.3 KiB