Package: reconsi Version: 1.18.0 Command: /Library/Frameworks/R.framework/Resources/bin/R CMD build --keep-empty-dirs --no-resave-data reconsi StartedAt: 2025-02-03 21:37:17 -0500 (Mon, 03 Feb 2025) EndedAt: 2025-02-03 21:40:18 -0500 (Mon, 03 Feb 2025) EllapsedTime: 181.4 seconds RetCode: 0 Status: OK PackageFile: reconsi_1.18.0.tar.gz PackageFileSize: 142.3 KiB