Package: reconsi Version: 1.18.0 Command: /Library/Frameworks/R.framework/Resources/bin/R CMD check --install=check:reconsi.install-out.txt --library=/Library/Frameworks/R.framework/Resources/library --no-vignettes --timings reconsi_1.18.0.tar.gz StartedAt: 2025-02-04 08:42:05 -0500 (Tue, 04 Feb 2025) EndedAt: 2025-02-04 08:49:16 -0500 (Tue, 04 Feb 2025) EllapsedTime: 431.1 seconds RetCode: 0 Status: OK CheckDir: reconsi.Rcheck Warnings: 0