Package: reconsi Version: 1.18.0 Command: /Library/Frameworks/R.framework/Resources/bin/R CMD INSTALL reconsi StartedAt: 2025-02-03 16:27:39 -0500 (Mon, 03 Feb 2025) EndedAt: 2025-02-03 16:28:21 -0500 (Mon, 03 Feb 2025) EllapsedTime: 41.5 seconds RetCode: 0 Status: OK