Package: reconsi
Version: 1.17.0
Command: rm -rf reconsi.buildbin-libdir && mkdir reconsi.buildbin-libdir && F:\biocbuild\bbs-3.20-bioc\R\bin\R.exe CMD INSTALL --build --library=reconsi.buildbin-libdir reconsi_1.17.0.tar.gz
StartedAt: 2024-06-10 14:45:51 -0400 (Mon, 10 Jun 2024)
EndedAt: 2024-06-10 14:47:07 -0400 (Mon, 10 Jun 2024)
EllapsedTime: 75.4 seconds
RetCode: 0
Status: OK
PackageFile: reconsi_1.17.0.zip
PackageFileSize: 166.1 <A href="http://en.wikipedia.org/wiki/KiB" target="_blank">KiB</A>