Package: reconsi Version: 1.18.0 Command: chmod a+r reconsi -R && F:\biocbuild\bbs-3.20-bioc\R\bin\R.exe CMD build --keep-empty-dirs --no-resave-data reconsi StartedAt: 2025-02-03 21:35:39 -0500 (Mon, 03 Feb 2025) EndedAt: 2025-02-03 21:37:34 -0500 (Mon, 03 Feb 2025) EllapsedTime: 114.7 seconds RetCode: 0 Status: OK PackageFile: reconsi_1.18.0.tar.gz PackageFileSize: 95.8 KiB