Package: reconsi Version: 1.18.0 Command: F:\biocbuild\bbs-3.20-bioc\R\bin\R.exe CMD check --no-multiarch --install=check:reconsi.install-out.txt --library=F:\biocbuild\bbs-3.20-bioc\R\library --no-vignettes --timings reconsi_1.18.0.tar.gz StartedAt: 2025-02-04 05:22:05 -0500 (Tue, 04 Feb 2025) EndedAt: 2025-02-04 05:25:57 -0500 (Tue, 04 Feb 2025) EllapsedTime: 232.5 seconds RetCode: 0 Status: OK CheckDir: reconsi.Rcheck Warnings: 0