Package: reconsi Version: 1.18.0 Command: /home/biocbuild/R/R/bin/R CMD INSTALL reconsi StartedAt: 2025-02-03 21:10:32 -0000 (Mon, 03 Feb 2025) EndedAt: 2025-02-03 21:10:55 -0000 (Mon, 03 Feb 2025) EllapsedTime: 23.8 seconds RetCode: 0 Status: OK