Package: recount
Version: 1.32.0
Command: /Library/Frameworks/R.framework/Resources/bin/R CMD build --keep-empty-dirs --no-resave-data recount
StartedAt: 2025-02-18 06:19:08 -0500 (Tue, 18 Feb 2025)
EndedAt: 2025-02-18 06:25:08 -0500 (Tue, 18 Feb 2025)
EllapsedTime: 360.2 seconds
RetCode: 0
Status: OK
PackageFile: recount_1.32.0.tar.gz
PackageFileSize: 7.491 <A href="http://en.wikipedia.org/wiki/MiB" target="_blank">MiB</A>