Package: recount Version: 1.32.0 Command: rm -rf recount.buildbin-libdir && mkdir recount.buildbin-libdir && /Users/biocbuild/BBS/utils/build-universal.sh recount_1.32.0.tar.gz /Library/Frameworks/R.framework/Resources/bin/R recount.buildbin-libdir StartedAt: 2025-02-04 13:56:58 -0500 (Tue, 04 Feb 2025) EndedAt: 2025-02-04 14:00:45 -0500 (Tue, 04 Feb 2025) EllapsedTime: 226.5 seconds RetCode: 0 Status: OK PackageFile: recount_1.32.0.tgz PackageFileSize: 7.854 MiB