Package: recount Version: 1.32.0 Command: /Library/Frameworks/R.framework/Resources/bin/R CMD INSTALL recount StartedAt: 2025-02-03 16:04:49 -0500 (Mon, 03 Feb 2025) EndedAt: 2025-02-03 16:07:06 -0500 (Mon, 03 Feb 2025) EllapsedTime: 136.9 seconds RetCode: 0 Status: OK