Package: recount Version: 1.32.0 Command: /home/biocbuild/bbs-3.20-bioc/R/bin/R CMD build --keep-empty-dirs --no-resave-data --md5 recount StartedAt: 2025-02-03 18:55:58 -0500 (Mon, 03 Feb 2025) EndedAt: 2025-02-03 19:03:31 -0500 (Mon, 03 Feb 2025) EllapsedTime: 453.5 seconds RetCode: 0 Status: OK PackageFile: recount_1.32.0.tar.gz PackageFileSize: 7.276 MiB