Package: recount Version: 1.32.0 Command: /home/biocbuild/bbs-3.20-bioc/R/bin/R CMD check --install=check:recount.install-out.txt --library=/home/biocbuild/bbs-3.20-bioc/R/site-library --timings recount_1.32.0.tar.gz StartedAt: 2025-02-04 01:39:10 -0500 (Tue, 04 Feb 2025) EndedAt: 2025-02-04 01:53:49 -0500 (Tue, 04 Feb 2025) EllapsedTime: 879.1 seconds RetCode: 0 Status: OK CheckDir: recount.Rcheck Warnings: 0