Package: recount Version: 1.32.0 Command: /home/biocbuild/bbs-3.20-bioc/R/bin/R CMD INSTALL recount StartedAt: 2025-02-03 15:42:12 -0500 (Mon, 03 Feb 2025) EndedAt: 2025-02-03 15:43:29 -0500 (Mon, 03 Feb 2025) EllapsedTime: 76.7 seconds RetCode: 0 Status: OK