Package: recount Version: 1.32.0 Command: rm -rf recount.buildbin-libdir && mkdir recount.buildbin-libdir && F:\biocbuild\bbs-3.20-bioc\R\bin\R.exe CMD INSTALL --build --library=recount.buildbin-libdir recount_1.32.0.tar.gz StartedAt: 2025-02-04 09:18:41 -0500 (Tue, 04 Feb 2025) EndedAt: 2025-02-04 09:20:01 -0500 (Tue, 04 Feb 2025) EllapsedTime: 79.5 seconds RetCode: 0 Status: OK PackageFile: recount_1.32.0.zip PackageFileSize: 7.24 MiB