Package: recount3 Version: 1.16.0 Command: /home/biocbuild/R/R/bin/R CMD check --install=check:recount3.install-out.txt --library=/home/biocbuild/R/R/site-library --no-vignettes --timings recount3_1.16.0.tar.gz StartedAt: 2024-11-20 11:30:47 -0000 (Wed, 20 Nov 2024) EndedAt: 2024-11-20 11:44:22 -0000 (Wed, 20 Nov 2024) EllapsedTime: 815.5 seconds RetCode: 0 Status: OK CheckDir: recount3.Rcheck Warnings: 0