Package: recount3 Version: 1.16.0 Command: /home/biocbuild/bbs-3.20-bioc/R/bin/R CMD check --install=check:recount3.install-out.txt --library=/home/biocbuild/bbs-3.20-bioc/R/site-library --timings recount3_1.16.0.tar.gz StartedAt: 2025-02-04 01:39:11 -0500 (Tue, 04 Feb 2025) EndedAt: 2025-02-04 01:48:19 -0500 (Tue, 04 Feb 2025) EllapsedTime: 548.7 seconds RetCode: 0 Status: OK CheckDir: recount3.Rcheck Warnings: 0