Package: recount3 Version: 1.16.0 Command: /home/biocbuild/R/R/bin/R CMD INSTALL recount3 StartedAt: 2025-02-03 20:39:33 -0000 (Mon, 03 Feb 2025) EndedAt: 2025-02-03 20:40:14 -0000 (Mon, 03 Feb 2025) EllapsedTime: 41.0 seconds RetCode: 0 Status: OK