Package: recountmethylation Version: 1.16.0 Command: /Library/Frameworks/R.framework/Resources/bin/R CMD build --keep-empty-dirs --no-resave-data recountmethylation StartedAt: 2025-02-11 06:20:55 -0500 (Tue, 11 Feb 2025) EndedAt: 2025-02-11 06:23:52 -0500 (Tue, 11 Feb 2025) EllapsedTime: 176.5 seconds RetCode: 0 Status: OK PackageFile: recountmethylation_1.16.0.tar.gz PackageFileSize: 4.858 MiB