Package: recountmethylation Version: 1.16.0 Command: /Library/Frameworks/R.framework/Resources/bin/R CMD check --install=check:recountmethylation.install-out.txt --library=/Library/Frameworks/R.framework/Resources/library --no-vignettes --timings recountmethylation_1.16.0.tar.gz StartedAt: 2025-02-12 06:22:54 -0500 (Wed, 12 Feb 2025) EndedAt: 2025-02-12 06:24:50 -0500 (Wed, 12 Feb 2025) EllapsedTime: 116.7 seconds RetCode: 0 Status: OK CheckDir: recountmethylation.Rcheck Warnings: 0