Package: recountmethylation Version: 1.16.0 Command: rm -rf recountmethylation.buildbin-libdir && mkdir recountmethylation.buildbin-libdir && /Users/biocbuild/BBS/utils/build-universal.sh recountmethylation_1.16.0.tar.gz /Library/Frameworks/R.framework/Resources/bin/R recountmethylation.buildbin-libdir StartedAt: 2025-02-04 13:57:07 -0500 (Tue, 04 Feb 2025) EndedAt: 2025-02-04 13:57:25 -0500 (Tue, 04 Feb 2025) EllapsedTime: 18.5 seconds RetCode: 0 Status: OK PackageFile: recountmethylation_1.16.0.tgz PackageFileSize: 4.793 MiB