Package: recountmethylation Version: 1.16.0 Command: /Library/Frameworks/R.framework/Resources/bin/R CMD check --install=check:recountmethylation.install-out.txt --library=/Library/Frameworks/R.framework/Resources/library --no-vignettes --timings recountmethylation_1.16.0.tar.gz StartedAt: 2025-02-04 08:42:17 -0500 (Tue, 04 Feb 2025) EndedAt: 2025-02-04 08:44:48 -0500 (Tue, 04 Feb 2025) EllapsedTime: 150.9 seconds RetCode: 0 Status: OK CheckDir: recountmethylation.Rcheck Warnings: 0