Package: recountmethylation Version: 1.16.0 Command: rm -rf recountmethylation.buildbin-libdir && mkdir recountmethylation.buildbin-libdir && F:\biocbuild\bbs-3.20-bioc\R\bin\R.exe CMD INSTALL --build --library=recountmethylation.buildbin-libdir recountmethylation_1.16.0.tar.gz StartedAt: 2025-02-04 09:18:46 -0500 (Tue, 04 Feb 2025) EndedAt: 2025-02-04 09:19:56 -0500 (Tue, 04 Feb 2025) EllapsedTime: 70.5 seconds RetCode: 0 Status: OK PackageFile: recountmethylation_1.16.0.zip PackageFileSize: 4.642 MiB