Package: regionReport Version: 1.40.0 Command: rm -rf regionReport.buildbin-libdir && mkdir regionReport.buildbin-libdir && /Users/biocbuild/BBS/utils/build-universal.sh regionReport_1.40.0.tar.gz /Library/Frameworks/R.framework/Resources/bin/R regionReport.buildbin-libdir StartedAt: 2025-02-05 17:21:41 -0500 (Wed, 05 Feb 2025) EndedAt: 2025-02-05 17:22:40 -0500 (Wed, 05 Feb 2025) EllapsedTime: 59.0 seconds RetCode: 0 Status: OK PackageFile: regionReport_1.40.0.tgz PackageFileSize: 692.6 KiB