Package: regionReport Version: 1.40.0 Command: /Library/Frameworks/R.framework/Resources/bin/R CMD build --keep-empty-dirs --no-resave-data regionReport StartedAt: 2025-01-31 06:19:27 -0500 (Fri, 31 Jan 2025) EndedAt: 2025-01-31 06:20:49 -0500 (Fri, 31 Jan 2025) EllapsedTime: 82.2 seconds RetCode: 0 Status: OK PackageFile: regionReport_1.40.0.tar.gz PackageFileSize: 643.8 KiB