Package: regionReport Version: 1.40.0 Command: /Library/Frameworks/R.framework/Resources/bin/R CMD build --keep-empty-dirs --no-resave-data regionReport StartedAt: 2024-11-08 18:46:14 -0500 (Fri, 08 Nov 2024) EndedAt: 2024-11-08 18:46:41 -0500 (Fri, 08 Nov 2024) EllapsedTime: 27.3 seconds RetCode: 0 Status: OK PackageFile: regionReport_1.40.0.tar.gz PackageFileSize: 643.9 KiB