Package: regionReport Version: 1.40.0 Command: rm -rf regionReport.buildbin-libdir && mkdir regionReport.buildbin-libdir && F:\biocbuild\bbs-3.20-bioc\R\bin\R.exe CMD INSTALL --build --library=regionReport.buildbin-libdir regionReport_1.40.0.tar.gz StartedAt: 2025-01-31 09:25:04 -0500 (Fri, 31 Jan 2025) EndedAt: 2025-01-31 09:26:09 -0500 (Fri, 31 Jan 2025) EllapsedTime: 64.2 seconds RetCode: 0 Status: OK PackageFile: regionReport_1.40.0.zip PackageFileSize: 703 KiB