Package: regionReport Version: 1.40.0 Command: /home/biocbuild/bbs-3.20-bioc/R/bin/R CMD build --keep-empty-dirs --no-resave-data regionReport StartedAt: 2024-11-19 21:11:07 -0500 (Tue, 19 Nov 2024) EndedAt: 2024-11-19 21:12:19 -0500 (Tue, 19 Nov 2024) EllapsedTime: 72.8 seconds RetCode: 0 Status: OK PackageFile: regionReport_1.40.0.tar.gz PackageFileSize: 643.9 KiB