Package: regionalpcs Version: 1.4.0 Command: /Library/Frameworks/R.framework/Resources/bin/R CMD build --keep-empty-dirs --no-resave-data regionalpcs StartedAt: 2025-02-04 06:27:03 -0500 (Tue, 04 Feb 2025) EndedAt: 2025-02-04 06:27:31 -0500 (Tue, 04 Feb 2025) EllapsedTime: 27.7 seconds RetCode: 0 Status: OK PackageFile: regionalpcs_1.4.0.tar.gz PackageFileSize: 469.9 KiB