Package: regionalpcs Version: 1.4.0 Command: /Library/Frameworks/R.framework/Resources/bin/R CMD INSTALL regionalpcs StartedAt: 2025-02-03 16:36:05 -0500 (Mon, 03 Feb 2025) EndedAt: 2025-02-03 16:36:09 -0500 (Mon, 03 Feb 2025) EllapsedTime: 3.6 seconds RetCode: 0 Status: OK