Package: regionalpcs Version: 1.4.0 Command: /home/biocbuild/bbs-3.20-bioc/R/bin/R CMD check --install=check:regionalpcs.install-out.txt --library=/home/biocbuild/bbs-3.20-bioc/R/site-library --timings regionalpcs_1.4.0.tar.gz StartedAt: 2025-02-11 01:30:51 -0500 (Tue, 11 Feb 2025) EndedAt: 2025-02-11 01:31:55 -0500 (Tue, 11 Feb 2025) EllapsedTime: 64.0 seconds RetCode: 0 Status: OK CheckDir: regionalpcs.Rcheck Warnings: 0