Package: regionalpcs Version: 1.4.0 Command: /home/biocbuild/R/R/bin/R CMD INSTALL regionalpcs StartedAt: 2025-02-10 21:01:54 -0000 (Mon, 10 Feb 2025) EndedAt: 2025-02-10 21:01:56 -0000 (Mon, 10 Feb 2025) EllapsedTime: 2.0 seconds RetCode: 0 Status: OK