Package: regioneR Version: 1.38.0 Command: /Library/Frameworks/R.framework/Resources/bin/R CMD INSTALL regioneR StartedAt: 2025-02-03 15:57:40 -0500 (Mon, 03 Feb 2025) EndedAt: 2025-02-03 15:58:18 -0500 (Mon, 03 Feb 2025) EllapsedTime: 38.7 seconds RetCode: 0 Status: OK