Package: regioneR Version: 1.38.0 Command: /Library/Frameworks/R.framework/Resources/bin/R CMD build --keep-empty-dirs --no-resave-data regioneR StartedAt: 2025-02-03 21:38:04 -0500 (Mon, 03 Feb 2025) EndedAt: 2025-02-03 21:41:48 -0500 (Mon, 03 Feb 2025) EllapsedTime: 223.9 seconds RetCode: 0 Status: OK PackageFile: regioneR_1.38.0.tar.gz PackageFileSize: 1.873 MiB