Package: regioneR Version: 1.38.0 Command: /home/biocbuild/R/R/bin/R CMD check --install=check:regioneR.install-out.txt --library=/home/biocbuild/R/R/site-library --no-vignettes --timings regioneR_1.38.0.tar.gz StartedAt: 2025-02-04 10:18:21 -0000 (Tue, 04 Feb 2025) EndedAt: 2025-02-04 10:26:39 -0000 (Tue, 04 Feb 2025) EllapsedTime: 497.7 seconds RetCode: 0 Status: OK CheckDir: regioneR.Rcheck Warnings: 0