Package: regioneReloaded Version: 1.8.0 Command: /Library/Frameworks/R.framework/Resources/bin/R CMD INSTALL regioneReloaded StartedAt: 2025-02-03 15:46:45 -0500 (Mon, 03 Feb 2025) EndedAt: 2025-02-03 15:48:00 -0500 (Mon, 03 Feb 2025) EllapsedTime: 74.7 seconds RetCode: 0 Status: OK