Package: regioneReloaded
Version: 1.8.0
Command: chmod a+r regioneReloaded -R && F:\biocbuild\bbs-3.20-bioc\R\bin\R.exe CMD build --keep-empty-dirs --no-resave-data regioneReloaded
StartedAt: 2025-02-17 21:22:38 -0500 (Mon, 17 Feb 2025)
EndedAt: 2025-02-17 21:25:09 -0500 (Mon, 17 Feb 2025)
EllapsedTime: 151.3 seconds
RetCode: 0
Status: OK
PackageFile: regioneReloaded_1.8.0.tar.gz
PackageFileSize: 2.563 <A href="http://en.wikipedia.org/wiki/MiB" target="_blank">MiB</A>