Package: regsplice Version: 1.32.0 Command: rm -rf regsplice.buildbin-libdir && mkdir regsplice.buildbin-libdir && /Users/biocbuild/BBS/utils/build-universal.sh regsplice_1.32.0.tar.gz /Library/Frameworks/R.framework/Resources/bin/R regsplice.buildbin-libdir StartedAt: 2025-02-05 17:21:42 -0500 (Wed, 05 Feb 2025) EndedAt: 2025-02-05 17:22:10 -0500 (Wed, 05 Feb 2025) EllapsedTime: 28.4 seconds RetCode: 0 Status: OK PackageFile: regsplice_1.32.0.tgz PackageFileSize: 409.4 KiB