Package: regsplice Version: 1.32.0 Command: /Library/Frameworks/R.framework/Resources/bin/R CMD INSTALL regsplice StartedAt: 2025-02-03 17:19:43 -0500 (Mon, 03 Feb 2025) EndedAt: 2025-02-03 17:20:08 -0500 (Mon, 03 Feb 2025) EllapsedTime: 25.0 seconds RetCode: 0 Status: OK