Package: regsplice Version: 1.32.0 Command: /Library/Frameworks/R.framework/Resources/bin/R CMD check --install=check:regsplice.install-out.txt --library=/Library/Frameworks/R.framework/Resources/library --no-vignettes --timings regsplice_1.32.0.tar.gz StartedAt: 2025-02-04 08:45:45 -0500 (Tue, 04 Feb 2025) EndedAt: 2025-02-04 08:53:35 -0500 (Tue, 04 Feb 2025) EllapsedTime: 469.4 seconds RetCode: 0 Status: OK CheckDir: regsplice.Rcheck Warnings: 0