Package: regsplice Version: 1.32.0 Command: /home/biocbuild/bbs-3.20-bioc/R/bin/R CMD INSTALL regsplice StartedAt: 2025-02-03 15:53:45 -0500 (Mon, 03 Feb 2025) EndedAt: 2025-02-03 15:54:08 -0500 (Mon, 03 Feb 2025) EllapsedTime: 23.3 seconds RetCode: 0 Status: OK