Package: regsplice Version: 1.32.0 Command: /home/biocbuild/R/R/bin/R CMD build --keep-empty-dirs --no-resave-data regsplice StartedAt: 2025-02-04 02:11:45 -0000 (Tue, 04 Feb 2025) EndedAt: 2025-02-04 02:12:49 -0000 (Tue, 04 Feb 2025) EllapsedTime: 64.1 seconds RetCode: 0 Status: OK PackageFile: regsplice_1.32.0.tar.gz PackageFileSize: 313.3 KiB