Package: regutools Version: 1.18.0 Command: /Library/Frameworks/R.framework/Resources/bin/R CMD INSTALL regutools StartedAt: 2025-02-03 17:02:21 -0500 (Mon, 03 Feb 2025) EndedAt: 2025-02-03 17:03:25 -0500 (Mon, 03 Feb 2025) EllapsedTime: 64.2 seconds RetCode: 0 Status: OK